BEGIN:VCALENDAR
VERSION:2.0
PRODID:-//eventon.com NONSGML v1.0//EN
CALSCALE:GREGORIAN
METHOD:PUBLISH
BEGIN:VEVENT
UID:69e4e953cdd8e
DTSTAMP:20260419T144019Z
DTSTART:20260512T090000Z
DTEND:20260512T100000Z
LOCATION:https://yourmarketspace.co.uk/events/treehouse-tribe-networking-coffee-chat-may/
SUMMARY:Treehouse Tribe Networking: Coffee Chat May
DESCRIPTION:Guest Speaker: Katie Shaw from Shaw Socials Join us for our Tre
 ehouse Tribe Coffee Chat on Tuesday 12th May where our guest speaker will b
 e Katie Shaw from Shaw Socials. She will be sharing her tips and advice abo
 ut what to post and how to write your Facebook posts. Expect[..]\nhttps://y
 ourmarketspace.co.uk/events/treehouse-tribe-networking-coffee-chat-may/
URL:https://yourmarketspace.co.uk/events/treehouse-tribe-networking-coffee-chat-may/
END:VEVENT
END:VCALENDAR