BEGIN:VCALENDAR
VERSION:2.0
PRODID:-//eventon.com NONSGML v1.0//EN
CALSCALE:GREGORIAN
METHOD:PUBLISH
BEGIN:VEVENT
UID:69e4ebca49cfc
DTSTAMP:20260419T145050Z
DTSTART:20260515T090000Z
DTEND:20260515T100000Z
LOCATION:https://yourmarketspace.co.uk/events/treehouse-tribe-networking-coffee-and-wellbeing-may/
SUMMARY:Treehouse Tribe Networking Coffee and Wellbeing May
DESCRIPTION:Guest speaker: Sid Betty fron Live Well B Happy Personal Traini
 ng Join us for our Treehouse Tribe Coffee and Wellbeing on Friday 15th May 
 where our guest speaker will be Sid Betty from Live Well B Happy Personal T
 raining. He will be sharing his expertise about building good habits around
 [..]\nhttps://yourmarketspace.co.uk/events/treehouse-tribe-networking-coffe
 e-and-wellbeing-may/
URL:https://yourmarketspace.co.uk/events/treehouse-tribe-networking-coffee-and-wellbeing-may/
END:VEVENT
END:VCALENDAR